BEGIN:VCALENDAR
VERSION:2.0
PRODID:-//wp-events-plugin.com//7.2.3//EN
TZID:Europe/Paris
X-WR-TIMEZONE:Europe/Paris
BEGIN:VEVENT
UID:1623@lamargelle.net
DTSTART;TZID=Europe/Paris:20260605T131500
DTEND;TZID=Europe/Paris:20260605T180000
DTSTAMP:20260417T142223Z
URL:https://www.lamargelle.net/events/sorties-aux-thermes-de-bad-bellingen
 -juin2026/
SUMMARY:Sortie aux thermes de Bad Bellingen
DESCRIPTION:Dernier rendez-vous de la saison !\n\nProfitez d'un après-midi
  pour vous relaxer et vous détendre : un vendredi par mois\, le CSC La Ma
 rgelle propose une sortie aux thermes de Bad Bellingen\, en partenariat av
 ec le CSC de Wittelsheim et le CS/MJC de Bollwiller.\n\nRDV à 13h15 devan
 t le Tabac du Mineur\, Cité Rossalmend\, rue d'Ensisheim\nDépart en bus 
 à 13h25 de Staffelfelden et arrivée aux thermes vers 14h30.\nDépart des
  thermes à 17h15 et retour à Staffelfelden à 18h.\n\nTarifs par séance
  : 25€ pour les adhérents au CSC / 30€ pour les non-adhérents. Atten
 tion\, le nombre de places est limité.\n\nInfos et inscriptions à la sé
 ance auprès de La Margelle au 03 89 55 64 20.
ATTACH;FMTTYPE=image/jpeg:https://www.lamargelle.net/wordpress/wp-content/
 uploads/2024/01/Afficheflyer-thermes-de-bad-bellingen.jpg
CATEGORIES:A la une,Service Familles et Adultes
LOCATION:Thermes de Bad Bellingen\, Badstraße 14\, Bad Bellingen\, 79415\,
  Allemagne
X-APPLE-STRUCTURED-LOCATION;VALUE=URI;X-ADDRESS=Badstraße 14\, Bad Belling
 en\, 79415\, Allemagne;X-APPLE-RADIUS=100;X-TITLE=Thermes de Bad Bellingen
 :geo:0,0
END:VEVENT
BEGIN:VTIMEZONE
TZID:Europe/Paris
X-LIC-LOCATION:Europe/Paris
BEGIN:DAYLIGHT
DTSTART:20260329T030000
TZOFFSETFROM:+0100
TZOFFSETTO:+0200
TZNAME:CEST
END:DAYLIGHT
END:VTIMEZONE
END:VCALENDAR