BEGIN:VCALENDAR
VERSION:2.0
PRODID:-//wp-events-plugin.com//7.2.3//EN
TZID:Europe/Paris
X-WR-TIMEZONE:Europe/Paris
BEGIN:VEVENT
UID:3692@lamargelle.net
DTSTART;TZID=Europe/Paris:20260617T180000
DTEND;TZID=Europe/Paris:20260617T190000
DTSTAMP:20250716T142617Z
URL:https://www.lamargelle.net/events/renforcements-etirements-doux-2026-0
 6-17/
SUMMARY:Renforcement - Etirement dos
DESCRIPTION:\n\n\nProfesseur : Gwenaëlle COULON\n\n\nExercices ludiques et
  variés\, inspirés du pilates et du yoga\, pour prévenir les douleurs d
 u bas du dos. Renforcement des muscles posturaux\, gainage de la sangle ab
 dominale et étirement de l'ensemble du corps pour favoriser la mobilité.
 \n\nTarif :  160€ / an\n\n\n 	Tarif hors carte de membre\, pour les ha
 bitants de Staffelfelden.\n 	Pour les personnes extérieures\, le prix ser
 a majoré de 10€.\n 	Tarifs dégressifs en cas d’inscription à plusie
 urs activités par personne. Se renseigner au secrétariat\n\n\n\n\n
ATTACH;FMTTYPE=image/jpeg:https://www.lamargelle.net/wordpress/wp-content/
 uploads/2024/06/IMG20240320181731-scaled-e1717770730350.jpg
CATEGORIES:Activités Adultes/Seniors
LOCATION:La Margelle / Salle La Galerie\, 17 rue de l'Eau qui Court\, Staff
 elfelden\, 68850\, France
X-APPLE-STRUCTURED-LOCATION;VALUE=URI;X-ADDRESS=17 rue de l'Eau qui Court\,
  Staffelfelden\, 68850\, France;X-APPLE-RADIUS=100;X-TITLE=La Margelle / S
 alle La Galerie:geo:0,0
END:VEVENT
BEGIN:VTIMEZONE
TZID:Europe/Paris
X-LIC-LOCATION:Europe/Paris
BEGIN:DAYLIGHT
DTSTART:20260329T030000
TZOFFSETFROM:+0100
TZOFFSETTO:+0200
TZNAME:CEST
END:DAYLIGHT
END:VTIMEZONE
END:VCALENDAR