BEGIN:VCALENDAR
VERSION:2.0
PRODID:-//wp-events-plugin.com//7.2.3//EN
TZID:Europe/Paris
X-WR-TIMEZONE:Europe/Paris
BEGIN:VEVENT
UID:4650@lamargelle.net
DTSTART;TZID=Europe/Paris:20260311T180000
DTEND;TZID=Europe/Paris:20260311T200000
DTSTAMP:20260310T160516Z
URL:https://www.lamargelle.net/events/rencontresparents_mars2026/
SUMMARY:Comprendre\, accompagner et soutenir son enfant dans sa scolarité
DESCRIPTION:[𝙍𝙚𝙥𝙤𝙧𝙩𝙚́ 𝙚𝙣 𝙤𝙘𝙩𝙤𝙗
 𝙧𝙚 !]\nDeux rencontres pour les parents\nLe service Familles &amp\; 
 Adultes propose deux temps d'échanges et de rencontre pour mieux cerner l
 es difficultés scolaires et découvrir des outils concrets et bienveillan
 ts\, animés par Christina Leal\, sophrothérapeute et psychopédagogue (u
 namourdefamille.com) :\n\n💬 Échanger et comprendre les difficultés re
 ncontrées par son enfant dans sa scolarité\nUn temps d’échange pour m
 ieux comprendre les blocages\, les émotions et les besoins de votre enfan
 t.\n\n📅 MERCREDI 11 MARS - 🕕 De 18h à 20h📍 Espace Les Coquelic
 ots\, 1 allée des Seigneurs (Staffelfelden)\n\n\n\n💬 Astuces et méth
 odes pour faciliter les apprentissages\nDes outils simples\, concrets et a
 pplicables à la maison pour accompagner votre enfant avec confiance et s
 érénité.\n\n📅 SAMEDI 21 MARS - 🕤 De 9h30 à 11h30\n📍 Espace L
 es Coquelicots\, 1 allée des Seigneurs (Staffelfelden)\n\n\n\nEntrée lib
 re\, sur inscriptions au 03 89 55 64 20 ou auprès d'Emilie\, référente 
 du Service Familles : servicefamilles@lamargelle.net\n\n\n\n
ATTACH;FMTTYPE=image/jpeg:https://www.lamargelle.net/wordpress/wp-content/
 uploads/2026/03/rencontres-parents-mars-68.jpg
CATEGORIES:Service Familles &amp; Adultes - à la une
LOCATION:La Margelle / Salle Les Coquelicots\, 1 allée des Seigneurs\, STA
 FFELFELDEN\, Grand Est\, 68850\, France
X-APPLE-STRUCTURED-LOCATION;VALUE=URI;X-ADDRESS=1 allée des Seigneurs\, ST
 AFFELFELDEN\, Grand Est\, 68850\, France;X-APPLE-RADIUS=100;X-TITLE=La Mar
 gelle / Salle Les Coquelicots:geo:0,0
END:VEVENT
BEGIN:VTIMEZONE
TZID:Europe/Paris
X-LIC-LOCATION:Europe/Paris
BEGIN:STANDARD
DTSTART:20251026T020000
TZOFFSETFROM:+0200
TZOFFSETTO:+0100
TZNAME:CET
END:STANDARD
END:VTIMEZONE
END:VCALENDAR