BEGIN:VCALENDAR
VERSION:2.0
PRODID:-//wp-events-plugin.com//7.2.3//EN
TZID:Europe/Paris
X-WR-TIMEZONE:Europe/Paris
BEGIN:VEVENT
UID:3807@lamargelle.net
DTSTART;TZID=Europe/Paris:20260421T170000
DTEND;TZID=Europe/Paris:20260421T181500
DTSTAMP:20250716T142605Z
URL:https://www.lamargelle.net/events/pilates-senior-2026-04-21/
SUMMARY:Pilates - Seniors & débutants
DESCRIPTION:Professeur : Galina GLUTZ\n\nUne méthode pour travailler les m
 uscles en profondeur et surtout la sangle abdominale en renforçant les mu
 scles. On apprend à développer les muscles faibles\, et à relâcher les
  muscles trop tendus dans le but d’équilibrer la musculature.\n\nQu'est
 -ce que la méthode Pilates?\nC'est un ensemble d'exercices de mise en for
 me physique et mentale. La méthode Pilates existe depuis les années 1920
  et porte le nom de son inventeur\, Joseph Pilates.\nCette méthode est co
 nçue pour développer le corps de manière harmonieuse à travers une sé
 rie d'exercices Pilates variés. On apprend à activer les muscles faibles
  et à relâcher les muscles tendus\, dans le but d'équilibrer la muscula
 ture.\nLes cours de Pilates peuvent être utilisés comme sport complet\, 
 comme complément à un autre exercice physique ou comme méthode de réé
 ducation.\nCorriger une mauvaise posture\, lutter contre le mal de dos\, d
 étendre la colonne vertébrale\, prendre conscience de son corps et espri
 t\, stimuler la vitalité\, réguler son rythme respiratoire\, lutter cont
 re le stress...\nLa méthode Pilates privilégie la qualité au dépend de
  la quantité\, elle vous amène progressivement à vous faire ressentir v
 os mouvements\, vous vous sentez vivre...\nPilates est un procédé reposa
 nt et relaxant car l'esprit est engagé totalement avec le corps.\n\nTarif
  : 255€/an\n\n 	Tarif hors carte de membre\, pour les habitants de Staff
 elfelden.\n 	Pour les personnes extérieures\, le prix sera majoré de 10
 €.\n 	Tarifs dégressifs en cas d’inscription à plusieurs activités 
 par personne. Se renseigner au secrétariat.\n
ATTACH;FMTTYPE=image/jpeg:https://www.lamargelle.net/wordpress/wp-content/
 uploads/2024/01/activite-pilates.jpg
CATEGORIES:Activités Adultes/Seniors
LOCATION:Salle Polyvalente de la Mairie\, 1 Place Espace Générations\, St
 affelfelden\, 68850 \, France
X-APPLE-STRUCTURED-LOCATION;VALUE=URI;X-ADDRESS=1 Place Espace Génération
 s\, Staffelfelden\, 68850 \, France;X-APPLE-RADIUS=100;X-TITLE=Salle Polyv
 alente de la Mairie:geo:0,0
END:VEVENT
BEGIN:VTIMEZONE
TZID:Europe/Paris
X-LIC-LOCATION:Europe/Paris
BEGIN:DAYLIGHT
DTSTART:20260329T030000
TZOFFSETFROM:+0100
TZOFFSETTO:+0200
TZNAME:CEST
END:DAYLIGHT
END:VTIMEZONE
END:VCALENDAR