BEGIN:VCALENDAR
VERSION:2.0
PRODID:-//wp-events-plugin.com//7.2.3//EN
TZID:Europe/Paris
X-WR-TIMEZONE:Europe/Paris
BEGIN:VEVENT
UID:4609@lamargelle.net
DTSTART;TZID=Europe/Paris:20251001T200000
DTEND;TZID=Europe/Paris:20251001T213000
DTSTAMP:20250918T085338Z
URL:https://www.lamargelle.net/events/keryjames-rap/
SUMMARY:Kery James (La Filature Nomade)
DESCRIPTION:R(résistance)A(amour)P(poésie)\nMusique / Rap acoustique | La
  Filature Nomade\n\nKery James revient à Mulhouse dans le cadre d’une n
 ouvelle tournée acoustique. Il y dévoile une proposition sans artifice\,
  dans une ambiance intimiste\, où musique et émotion se mettent au servi
 ce de sa poésie et de son engagement toujours bien présent contre les in
 égalités. Chaque projet lui permet de se renouveler et de surprendre. A
 près les deux pièces À Vif et À Huis Clos mises en scène par Marc
  Lainé et accueillies respectivement en 2018 et 2023\, Kery James revient
  à La Filature dans le cadre de sa nouvelle tournée R(résistance)A(amo
 ur)P(poésie). Après une décennie de succès dans les domaines du théâ
 tre\, de la musique et du cinéma\, il retrouve l’ambiance de proximité
  des concerts acoustiques et se confie à son public. Ses textes ciselés\
 , sa sensibilité à fleur de peau et son indéniable charisme font de lui
  une figure majeure de la scène. Sa voix profonde\, la pertinence et la p
 uissance de son propos vont au-delà d’un simple registre musical. Accom
 pagné par ses fidèles compagnons de scène\, aux claviers et aux percuss
 ions\, il propose une soirée célébrant la résistance\, l’amour et la
  poésie. Sa démarche s’inscrit dans une lignée humaniste et optimiste
  qu’il veille\, projet après projet\, à défendre et à promouvoir.***
 \n\nChant Kery James\nBatterie\, percussions Pierre Caillot\nClaviers Ni
 colas Seguy\nChœurs Malcom\, Jean-Brice Ardenne\nProduction Astérios Sp
 ectacles.\nPhoto © Jim Sohm\n\n***\n\nDurée : 1h30 environ - Tout publi
 c\n\nSpectacle à La Filature\, dans le cadre du dispositif La Filature No
 made\n\nTarifs préférentiels : réservez vos places directement à l'acc
 ueil de La Margelle ou au 03 89 55 64 20 pour en profiter. Attention\, le 
 nombre de places est limité !\n\nTarifs : 14€/9€ (moins de 30 ans\, 
 demandeurs d'emploi\, bénéficiaires du RSA\, de l'ASPA\, carte famille n
 ombreuse\, personnes en situation de handicap)\n\nInfos et réservations 
 à l'accueil de La Margelle ou au 03 89 55 64 20\n\n\n\nLa Margelle et La 
 Filature s'associent dans le cadre de La Filature Nomade. Ce dispositif pe
 rmet à La Margelle d'accueillir un spectacle proposé par la Scène natio
 nale\, et à ses adhérents et aux habitants de Staffelfelden de bénéfic
 ier de tarifs préférentiels sur une sélection de spectacles à La Filat
 ure. "La Filature Nomade" est soutenue par la DRAC Grand Est.\n\n
ATTACH;FMTTYPE=image/jpeg:https://www.lamargelle.net/wordpress/wp-content/
 uploads/2024/07/kery-james-jim-sohn.png
CATEGORIES:Spectacles
LOCATION:La Filature\, Scène nationale\, 20\, allée Nathan Katz\, Mulhous
 e\, 68090\, France
X-APPLE-STRUCTURED-LOCATION;VALUE=URI;X-ADDRESS=20\, allée Nathan Katz\, M
 ulhouse\, 68090\, France;X-APPLE-RADIUS=100;X-TITLE=La Filature\, Scène n
 ationale:geo:0,0
END:VEVENT
BEGIN:VTIMEZONE
TZID:Europe/Paris
X-LIC-LOCATION:Europe/Paris
BEGIN:DAYLIGHT
DTSTART:20250330T030000
TZOFFSETFROM:+0100
TZOFFSETTO:+0200
TZNAME:CEST
END:DAYLIGHT
END:VTIMEZONE
END:VCALENDAR