BEGIN:VCALENDAR
VERSION:2.0
PRODID:-//wp-events-plugin.com//7.2.3//EN
TZID:Europe/Paris
X-WR-TIMEZONE:Europe/Paris
BEGIN:VEVENT
UID:3647@lamargelle.net
DTSTART;TZID=Europe/Paris:20260518T183000
DTEND;TZID=Europe/Paris:20260518T193000
DTSTAMP:20250716T142534Z
URL:https://www.lamargelle.net/events/gym-tonic-2026-05-18/
SUMMARY:Renfo'Cardio
DESCRIPTION:Professeur : Salomé DANIEL\n\nLe renfo’cardio sollicite l’
 ensemble des muscles de votre corps (bras\, abdominaux\, jambes). Il s’a
 git d’une alternance d’exercices qui visent à améliorer votre capaci
 té cardio-respiratoire et permet de vous renforcer de manière générale
 .\nUne séance d’une heure se compose de 3 parties :\n\n 	un échauffeme
 nt articulaire et cardio-respiratoire pour préparer le corps à l’effor
 t\n 	une alternance d’exercices de renforcement musculaire et d’exerci
 ces permettant de travailler le cardio\n 	un retour au calme composé d’
 étirements.\n\nDu petit matériel (haltères\, élastiques\, balles lest
 ées\, cordes à sauter…) est utilisé pendant les séances. Un tapis de
  sol est nécessaire à la pratique de l'activité.\n\n\n\nTarif :  135
 € / an - Formule à 190€/an pour 2 cours (2ème cours au choix : circu
 it training\, fit'n'moov\, pound)\n\n\n 	Tarif hors carte de membre\, pour
  les habitants de Staffelfelden.\n 	Pour les personnes extérieures\, le p
 rix sera majoré de 10€.\n 	Tarifs dégressifs en cas d’inscription à
  plusieurs activités par personne. Se renseigner au secrétariat.\n\n
ATTACH;FMTTYPE=image/jpeg:https://www.lamargelle.net/wordpress/wp-content/
 uploads/2024/07/people-group-doing-fitness-exercises-scaled.jpg
CATEGORIES:Activités Adultes/Seniors
LOCATION:La Margelle / Salle La Galerie\, 17 rue de l'Eau qui Court\, Staff
 elfelden\, 68850\, France
X-APPLE-STRUCTURED-LOCATION;VALUE=URI;X-ADDRESS=17 rue de l'Eau qui Court\,
  Staffelfelden\, 68850\, France;X-APPLE-RADIUS=100;X-TITLE=La Margelle / S
 alle La Galerie:geo:0,0
END:VEVENT
BEGIN:VTIMEZONE
TZID:Europe/Paris
X-LIC-LOCATION:Europe/Paris
BEGIN:DAYLIGHT
DTSTART:20260329T030000
TZOFFSETFROM:+0100
TZOFFSETTO:+0200
TZNAME:CEST
END:DAYLIGHT
END:VTIMEZONE
END:VCALENDAR