BEGIN:VCALENDAR
VERSION:2.0
PRODID:-//wp-events-plugin.com//7.2.3//EN
TZID:Europe/Paris
X-WR-TIMEZONE:Europe/Paris
BEGIN:VEVENT
UID:3528@lamargelle.net
DTSTART;TZID=Europe/Paris:20260617T190000
DTEND;TZID=Europe/Paris:20260617T200000
DTSTAMP:20250711T155753Z
URL:https://www.lamargelle.net/events/fitnmoove-2026-06-17/
SUMMARY:Fit'n'Moov'
DESCRIPTION:\n\n\nProfesseur : Gwenaëlle COULON\n\n\nÉchauffement chorég
 raphié et rythmé\, suivi d'une séance intensive de 30 minutes intégran
 t cardio et renforcement musculaire. Idéal pour améliorer son endurance\
 , tonifier sa silhouette et brûler des graisses ! Avec ou sans matériel 
 (ballons\, altères\, élastiques…). Chaque semaine un cours différent 
 pour varier les plaisirs\, et en extérieur\, au vert\, dès les beaux jou
 rs !\n\n\n\nTarif :  135€ / an - Formule à 190€/an pour 2 cours (2è
 me cours au choix : circuit training\, renfo'cardio ou pound)\n\n\n 	Tarif
  hors carte de membre\, pour les habitants de Staffelfelden\n 	Pour les pe
 rsonnes extérieures\, le prix sera majoré de 10€.\n 	Tarifs dégressif
 s en cas d’inscription à plusieurs activités par personne. Se renseign
 er au secrétariat.\n\n\n\n
ATTACH;FMTTYPE=image/jpeg:https://www.lamargelle.net/wordpress/wp-content/
 uploads/2024/06/fitnmoov-e1717768812944.jpg
CATEGORIES:Activités Adultes/Seniors
LOCATION:La Margelle / Salle La Galerie\, 17 rue de l'Eau qui Court\, Staff
 elfelden\, 68850\, France
X-APPLE-STRUCTURED-LOCATION;VALUE=URI;X-ADDRESS=17 rue de l'Eau qui Court\,
  Staffelfelden\, 68850\, France;X-APPLE-RADIUS=100;X-TITLE=La Margelle / S
 alle La Galerie:geo:0,0
END:VEVENT
BEGIN:VTIMEZONE
TZID:Europe/Paris
X-LIC-LOCATION:Europe/Paris
BEGIN:DAYLIGHT
DTSTART:20260329T030000
TZOFFSETFROM:+0100
TZOFFSETTO:+0200
TZNAME:CEST
END:DAYLIGHT
END:VTIMEZONE
END:VCALENDAR