BEGIN:VCALENDAR
VERSION:2.0
PRODID:-//wp-events-plugin.com//7.2.3//EN
TZID:Europe/Paris
X-WR-TIMEZONE:Europe/Paris
BEGIN:VEVENT
UID:4219@lamargelle.net
DTSTART;TZID=Europe/Paris:20260429T100000
DTEND;TZID=Europe/Paris:20260429T110000
DTSTAMP:20250716T155548Z
URL:https://www.lamargelle.net/events/eveil-a-la-danse-4-5ans-2026-04-29/
SUMMARY:Eveil à la danse - 4/5 ans
DESCRIPTION:\n\n\nOuvert aux enfants à partir de 4 ans (c'est-à-dire ayan
 t 4 ans en septembre de la saison en cours).\n\nProfesseur : Pauline CLEME
 NT\n\n\nTronc commun aux différentes techniques de danse (classique\, mod
 erne et contemporaine)\, l'éveil à la danse permet à chaque enfant de p
 rendre conscience de son corps dans l'espace au sein d'un collectif. Cette
  discipline développe des capacités d'expression de création et laisse
  libre cours à chaque enfant de découvrir sa propre personnalité dans 
 la danse.\n\n\n\nTarif :  130€ / an\n\n\n 	Tarif hors carte de membre\
 , pour les habitants de Staffelfelden.\n 	Pour les personnes extérieures\
 , le prix sera majoré de 10€.\n 	Tarifs dégressifs en cas d’inscript
 ion à plusieurs activités par personne. Se renseigner au secrétariat.\n
 \n\n\n
ATTACH;FMTTYPE=image/jpeg:https://www.lamargelle.net/wordpress/wp-content/
 uploads/2024/06/eveil-a-la-danse-e1717768482306.jpg
CATEGORIES:Activités Enfants/Ados
LOCATION:La Margelle / Salle La Galerie\, 17 rue de l'Eau qui Court\, Staff
 elfelden\, 68850\, France
X-APPLE-STRUCTURED-LOCATION;VALUE=URI;X-ADDRESS=17 rue de l'Eau qui Court\,
  Staffelfelden\, 68850\, France;X-APPLE-RADIUS=100;X-TITLE=La Margelle / S
 alle La Galerie:geo:0,0
END:VEVENT
BEGIN:VTIMEZONE
TZID:Europe/Paris
X-LIC-LOCATION:Europe/Paris
BEGIN:DAYLIGHT
DTSTART:20260329T030000
TZOFFSETFROM:+0100
TZOFFSETTO:+0200
TZNAME:CEST
END:DAYLIGHT
END:VTIMEZONE
END:VCALENDAR