BEGIN:VCALENDAR
VERSION:2.0
PRODID:-//wp-events-plugin.com//7.2.3//EN
TZID:Europe/Paris
X-WR-TIMEZONE:Europe/Paris
BEGIN:VEVENT
UID:4550@lamargelle.net
DTSTART;TZID=Europe/Paris:20260515T173000
DTEND;TZID=Europe/Paris:20260515T183000
DTSTAMP:20250716T160805Z
URL:https://www.lamargelle.net/events/danse-moderne-et-contemporaine-12-15
 -ans-2026-05-15/
SUMMARY:Danse moderne et contemporaine - 12/15 ans
DESCRIPTION:\n\nProfesseur : Emilie DIETRICH\n\n\n\nCe nouveau cours\, spé
 cialement destiné aux 12/15 ans\, est un mélange de danse moderne et con
 temporaine qui permettra d’explorer des énergies et des rythmes différ
 ents avec des chorégraphies originales. Développez la technique\, la cr
 éativité et la conscience du corps en dansant sur des styles de musique 
 variés. Créez des chorégraphies autour d’un thème pour un spectacle 
 de fin d’année haut en couleurs !\n\n\n\nTarif :  130€ / an\n\n\n 	
 Tarif hors carte de membre\, pour les habitants de Staffelfelden.\n 	Pour 
 les personnes extérieures\, le prix sera majoré de 10€.\n 	Tarifs dég
 ressifs en cas d’inscription à plusieurs activités par personne. Se re
 nseigner au secrétariat.\n\n\n\n
ATTACH;FMTTYPE=image/jpeg:https://www.lamargelle.net/wordpress/wp-content/
 uploads/2025/07/IMG20240321184803-scaled-e1752682010778.jpg
CATEGORIES:Activités Enfants/Ados
LOCATION:La Margelle / Salle La Galerie\, 17 rue de l'Eau qui Court\, Staff
 elfelden\, 68850\, France
X-APPLE-STRUCTURED-LOCATION;VALUE=URI;X-ADDRESS=17 rue de l'Eau qui Court\,
  Staffelfelden\, 68850\, France;X-APPLE-RADIUS=100;X-TITLE=La Margelle / S
 alle La Galerie:geo:0,0
END:VEVENT
BEGIN:VTIMEZONE
TZID:Europe/Paris
X-LIC-LOCATION:Europe/Paris
BEGIN:DAYLIGHT
DTSTART:20260329T030000
TZOFFSETFROM:+0100
TZOFFSETTO:+0200
TZNAME:CEST
END:DAYLIGHT
END:VTIMEZONE
END:VCALENDAR