BEGIN:VCALENDAR
VERSION:2.0
PRODID:-//wp-events-plugin.com//7.2.3//EN
TZID:Europe/Paris
X-WR-TIMEZONE:Europe/Paris
BEGIN:VEVENT
UID:3441@lamargelle.net
DTSTART;TZID=Europe/Paris:20260514T191500
DTEND;TZID=Europe/Paris:20260514T201500
DTSTAMP:20250716T142801Z
URL:https://www.lamargelle.net/events/danse-indienne-bollywood-2026-05-14/
SUMMARY:Danse indienne (Bollywood)
DESCRIPTION:\n\n\nA partir de 15 ans\n\n\nProfesseur : Adeline MACCHI\n\n\n
 Originaire d'Inde\, cette danse est issue des films indiens produits à Mu
 mbai\, appelée "Bollywood". Elle tient ses pas de bases de plusieurs styl
 es de danses traditionnelles auxquelles s'ajoutent des influences des dans
 es orientales et occidentales (modern jazz\, hip-hop\, ...). La danse Boll
 ywood vous emmène d'un endroit à l'autre\, d'une époque à l'autre selo
 n les musiques et les histoires racontées dans les films. Émotion\, éne
 rgie\, couleur et force du groupe sont importants...\n\n\n\nTarif :  150
 € / an\n\n\n\n 	Tarif hors carte de membre\, pour les habitants de Staff
 elfelden.\n 	Pour les personnes extérieures\, le prix sera majoré de 10
 €.\n 	Tarifs dégressifs en cas d’inscription à plusieurs activités 
 par personne. Se renseigner au secrétariat.\n\n
ATTACH;FMTTYPE=image/jpeg:https://www.lamargelle.net/wordpress/wp-content/
 uploads/2024/07/danse-bollywood-e1720450132325.jpg
CATEGORIES:Activités Adultes/Seniors
LOCATION:La Margelle / Salle La Galerie\, 17 rue de l'Eau qui Court\, Staff
 elfelden\, 68850\, France
X-APPLE-STRUCTURED-LOCATION;VALUE=URI;X-ADDRESS=17 rue de l'Eau qui Court\,
  Staffelfelden\, 68850\, France;X-APPLE-RADIUS=100;X-TITLE=La Margelle / S
 alle La Galerie:geo:0,0
END:VEVENT
BEGIN:VTIMEZONE
TZID:Europe/Paris
X-LIC-LOCATION:Europe/Paris
BEGIN:DAYLIGHT
DTSTART:20260329T030000
TZOFFSETFROM:+0100
TZOFFSETTO:+0200
TZNAME:CEST
END:DAYLIGHT
END:VTIMEZONE
END:VCALENDAR