BEGIN:VCALENDAR
VERSION:2.0
PRODID:-//wp-events-plugin.com//7.2.3//EN
TZID:Europe/Paris
X-WR-TIMEZONE:Europe/Paris
BEGIN:VEVENT
UID:4135@lamargelle.net
DTSTART;TZID=Europe/Paris:20260422T160000
DTEND;TZID=Europe/Paris:20260422T170000
DTSTAMP:20250718T094446Z
URL:https://www.lamargelle.net/events/danse-classique-debutants-2026-04-22
 /
SUMMARY:Danse classique - 10/13 ans confirmés
DESCRIPTION:\n\nCours destiné aux pré-ados\, de 10 à 13 ans\, ayant déj
 à 5 à 6 ans de pratique de la danse. Travail des pointes maitrisé.\n\n\
 nProfesseur : Sylvie LALLOUÉ\n\n\nL'apprentissage de la danse classique a
 pporte équilibre et épanouissement. Dans ce cours destiné aux pré-adol
 escents à partir de 10 ans\, les jeunes danseurs et danseuses apprennent 
 à repousser leurs propres limites et progressent en réalisant des mouvem
 ents de plus en plus difficiles. Emotions assurées dans le partage d'une 
 passion qui apporte équilibre et épanouissement !\n\nCe cours participe
  au spectacle de fin d'année.\n\n\n\nTarif :  190€ / an\n\n\n 	Tarif 
 hors carte de membre\, pour les habitants de Staffelfelden.\n 	Pour les pe
 rsonnes extérieures\, le prix sera majoré de 10€.\n 	Tarifs dégressif
 s en cas d’inscription à plusieurs activités par personne. Se renseign
 er au secrétariat.\n\n
ATTACH;FMTTYPE=image/jpeg:https://www.lamargelle.net/wordpress/wp-content/
 uploads/2024/06/IMG20240320161929-scaled-e1717767148169.jpg
CATEGORIES:Activités Enfants/Ados
LOCATION:La Margelle / Salle La Galerie\, 17 rue de l'Eau qui Court\, Staff
 elfelden\, 68850\, France
X-APPLE-STRUCTURED-LOCATION;VALUE=URI;X-ADDRESS=17 rue de l'Eau qui Court\,
  Staffelfelden\, 68850\, France;X-APPLE-RADIUS=100;X-TITLE=La Margelle / S
 alle La Galerie:geo:0,0
END:VEVENT
BEGIN:VTIMEZONE
TZID:Europe/Paris
X-LIC-LOCATION:Europe/Paris
BEGIN:DAYLIGHT
DTSTART:20260329T030000
TZOFFSETFROM:+0100
TZOFFSETTO:+0200
TZNAME:CEST
END:DAYLIGHT
END:VTIMEZONE
END:VCALENDAR