BEGIN:VCALENDAR
VERSION:2.0
PRODID:-//wp-events-plugin.com//7.2.3//EN
TZID:Europe/Paris
X-WR-TIMEZONE:Europe/Paris
BEGIN:VEVENT
UID:3401@lamargelle.net
DTSTART;TZID=Europe/Paris:20260518T183000
DTEND;TZID=Europe/Paris:20260518T194500
DTSTAMP:20250711T155042Z
URL:https://www.lamargelle.net/events/danse-classique-adultes-groupe-1-202
 6-05-18/
SUMMARY:Danse classique - adultes groupe 1
DESCRIPTION:\n\n\nPour adultes (à partir de 15 ans).\n\n\nProfesseur : Syl
 vie LALLOUÉ\n\n\nUn art\, une passion\, une discipline qui demande un tra
 vail mental pour assurer la maîtrise du corps. C'est l'équilibre\, le ma
 intien gracieux de la posture. Solliciter la sensibilité\, la concentrati
 on et la créativité pour s’épanouir en groupe dans le partage et la c
 omplicité. Assouplissements et travail musculaire\, dépassement de soi..
 . Apprécier la satisfaction de progresser encore. Échauffement avec le t
 ravail à la barre\, puis exercices et chorégraphies.\n\n\n\nTarif :  2
 05€ / an - Formule à 290€ pour les 2 cours (lundi et mercredi)\n\n\n 
 	Tarif hors carte de membre\, pour les habitants de Staffelfelden.\n 	Pour
  les personnes issues d'autres communes\, le prix est majoré de 10€.\n 
 	Tarifs dégressifs en cas d’inscription à plusieurs activités par per
 sonne. Se renseigner au secrétariat.\n\n\n
ATTACH;FMTTYPE=image/jpeg:https://www.lamargelle.net/wordpress/wp-content/
 uploads/2024/06/IMG20240320173013-scaled-e1717767494711.jpg
CATEGORIES:Activités Adultes/Seniors
LOCATION:La Margelle / Salle La Galerie\, 17 rue de l'Eau qui Court\, Staff
 elfelden\, 68850\, France
X-APPLE-STRUCTURED-LOCATION;VALUE=URI;X-ADDRESS=17 rue de l'Eau qui Court\,
  Staffelfelden\, 68850\, France;X-APPLE-RADIUS=100;X-TITLE=La Margelle / S
 alle La Galerie:geo:0,0
END:VEVENT
BEGIN:VTIMEZONE
TZID:Europe/Paris
X-LIC-LOCATION:Europe/Paris
BEGIN:DAYLIGHT
DTSTART:20260329T030000
TZOFFSETFROM:+0100
TZOFFSETTO:+0200
TZNAME:CEST
END:DAYLIGHT
END:VTIMEZONE
END:VCALENDAR