BEGIN:VCALENDAR
VERSION:2.0
PRODID:-//wp-events-plugin.com//7.2.3//EN
TZID:Europe/Paris
X-WR-TIMEZONE:Europe/Paris
BEGIN:VEVENT
UID:2979@lamargelle.net
DTSTART;TZID=Europe/Paris:20250410T140000
DTEND;TZID=Europe/Paris:20250410T170000
DTSTAMP:20240716T151112Z
URL:https://www.lamargelle.net/events/couture-deco-textile-9/
SUMMARY:Couture - Déco textile
DESCRIPTION:Échanges et bouts d'tissus - nouvelle formule !\nAdultes (à p
 artir de 15 ans).\n\nAux côtés de Marie-Jo SUTTER\, avec du vieux\, fait
 es du neuf !\n\nApprendre les bases de la couture main et machine pour les
  uns\, passer un bon moment\, partager et créer ensemble pour les autres
 … Valorisez des textiles récupérés ou coupons oubliés en les transfo
 rmant en accessoires ou éléments de décor.\n\nCet atelier se déroule d
 urant les vacances scolaires. Possibilité de choisir le nombre de séance
 s et les séances de votre choix.\n\n\n\n\n\nTarifs : 12€ pour 2 cours /
  20€ pour 4 cours / 55€ pour tous les cours\n\nTarif hors carte de mem
 bre\, pour les habitants de Staffelfelden et Wittelsheim.\nPour les person
 nes extérieures\, le prix sera majoré de 10€.\nTarifs dégressifs en c
 as d’inscription à plusieurs activités par personne. Se renseigner au 
 secrétariat.
ATTACH;FMTTYPE=image/jpeg:https://www.lamargelle.net/wordpress/wp-content/
 uploads/2024/02/couture-solidaire.jpg
CATEGORIES:Activités Adultes/Seniors
END:VEVENT
BEGIN:VTIMEZONE
TZID:Europe/Paris
X-LIC-LOCATION:Europe/Paris
BEGIN:DAYLIGHT
DTSTART:20250330T030000
TZOFFSETFROM:+0100
TZOFFSETTO:+0200
TZNAME:CEST
END:DAYLIGHT
END:VTIMEZONE
END:VCALENDAR