BEGIN:VCALENDAR
VERSION:2.0
PRODID:-//wp-events-plugin.com//7.2.3//EN
TZID:Europe/Paris
X-WR-TIMEZONE:Europe/Paris
BEGIN:VEVENT
UID:3033@lamargelle.net
DTSTART;TZID=Europe/Paris:20250211T200000
DTEND;TZID=Europe/Paris:20250211T220000
DTSTAMP:20250115T102241Z
URL:https://www.lamargelle.net/events/cinema-a-la-margelle-unoursdanslejur
 a/
SUMMARY:Cinéma à La Margelle : Un ours dans le Jura
DESCRIPTION:Tous les mois\, un film tout public et un film jeune public son
 t projetés en numérique sur grand écran\, et à petits tarifs (4€ et
  3€ pour les moins de 12 ans) !\n\nMichel et Cathy\, un couple usé par 
 le temps et les difficultés financières\, ne se parle plus vraiment. Jus
 qu’au jour où Michel\, pour éviter un ours sur la route\, heurte une v
 oiture et tue les deux occupants. 2 morts et 2 millions en billets usagés
  dans le coffre\, forcément\, ça donne envie de se reparler. Et surtout 
 de se taire...\n\n\nUne comédie/thriller de Franck Dubosc\, avec Franck 
 Dubosc\, Laure Calamy\, Benoît Poelvoorde\n\nDurée : 1h53\nTout public
  avec avertissement : plusieurs scènes sont susceptibles d'impressionner 
 un public sensible.\n\nTarifs : 4€ / 3€ pour les moins de 12 ans.\n\nU
 n entracte est proposé au milieu du film\, avec une buvette et une petite
  offre snacking.\n\n\n\n\n\nLes prochaines séances :\n\n 	Février : Merc
 redi 12 à 15h\n 	Mars : Mardi 11 à 20h | Mercredi 12 à 15h\n 	Avril :
  Mardi 8 à 20h | Mercredi 9 à 15h\n\n* Dates sous réserve de modificati
 on.
ATTACH;FMTTYPE=image/jpeg:https://www.lamargelle.net/wordpress/wp-content/
 uploads/2024/07/un-ours-dans-le-jura.jpg
CATEGORIES:A la une,Cinéma
LOCATION:La Margelle / Salle La Galerie\, 17 rue de l'Eau qui Court\, Staff
 elfelden\, 68850\, France
X-APPLE-STRUCTURED-LOCATION;VALUE=URI;X-ADDRESS=17 rue de l'Eau qui Court\,
  Staffelfelden\, 68850\, France;X-APPLE-RADIUS=100;X-TITLE=La Margelle / S
 alle La Galerie:geo:0,0
END:VEVENT
BEGIN:VTIMEZONE
TZID:Europe/Paris
X-LIC-LOCATION:Europe/Paris
BEGIN:STANDARD
DTSTART:20241027T020000
TZOFFSETFROM:+0200
TZOFFSETTO:+0100
TZNAME:CET
END:STANDARD
END:VTIMEZONE
END:VCALENDAR