BEGIN:VCALENDAR
VERSION:2.0
PRODID:-//wp-events-plugin.com//7.2.3//EN
TZID:Europe/Paris
X-WR-TIMEZONE:Europe/Paris
BEGIN:VEVENT
UID:4060@lamargelle.net
DTSTART;TZID=Europe/Paris:20260610T183000
DTEND;TZID=Europe/Paris:20260610T193000
DTSTAMP:20250716T143112Z
URL:https://www.lamargelle.net/events/break-dance-11-16-ans-2026-06-10/
SUMMARY:Break dance (dès 11 ans)
DESCRIPTION:A partir de 11 ans.\n\nProfesseur : Alexandre DADOUA (Suppléan
 t : Florian ROCHE)\n\nLe break dance est un sport alliant plaisir musical 
 et prouesses physiques. Grâce à ce mélange\, les danseurs réussiront 
 à placer leur corps dans l’espace en faisant preuve d’originalité\, 
 tout cela véhiculé par la musicalité.\n\nTarif : 130€ / an\n\n 	Tarif
  hors carte de membre\, pour les habitants de Staffelfelden.\n 	Pour les p
 ersonnes extérieures\, le prix sera majoré de 10€.\n 	Tarifs dégressi
 fs en cas d’inscription à plusieurs activités par personne. Se renseig
 ner au secrétariat.\n
ATTACH;FMTTYPE=image/jpeg:https://www.lamargelle.net/wordpress/wp-content/
 uploads/2024/07/breakdance-1-DR-A.Dadoua-scaled.jpg
CATEGORIES:Activités Enfants/Ados
LOCATION:La Margelle / Salle La Galerie\, 17 rue de l'Eau qui Court\, Staff
 elfelden\, 68850\, France
X-APPLE-STRUCTURED-LOCATION;VALUE=URI;X-ADDRESS=17 rue de l'Eau qui Court\,
  Staffelfelden\, 68850\, France;X-APPLE-RADIUS=100;X-TITLE=La Margelle / S
 alle La Galerie:geo:0,0
END:VEVENT
BEGIN:VTIMEZONE
TZID:Europe/Paris
X-LIC-LOCATION:Europe/Paris
BEGIN:DAYLIGHT
DTSTART:20260329T030000
TZOFFSETFROM:+0100
TZOFFSETTO:+0200
TZNAME:CEST
END:DAYLIGHT
END:VTIMEZONE
END:VCALENDAR