BEGIN:VCALENDAR
VERSION:2.0
PRODID:-//wp-events-plugin.com//7.2.3//EN
TZID:Europe/Paris
X-WR-TIMEZONE:Europe/Paris
BEGIN:VEVENT
UID:3276@lamargelle.net
DTSTART;TZID=Europe/Paris:20260514T143000
DTEND;TZID=Europe/Paris:20260514T153000
DTSTAMP:20250711T154457Z
URL:https://www.lamargelle.net/events/atelier-danse-2026-05-14/
SUMMARY:Atelier danse
DESCRIPTION:\nProfesseur : Sylvie LALLOUÉ\n\n\n\n\nIl est si bon de danser
 \, à tout âge !\nMoment de partage dans le plaisir de la danse\, avec de
 s chorégraphies simples\, mais originales\, sur des musiques modernes ou 
 classiques. Travail de mémoire\, de coordination\, d'assouplissement\, da
 ns une ambiance chaleureuse.\n\n\n\nTarif :  165€\n\n\n 	Tarif hors car
 te de membre\, pour les habitants de Staffelfelden.\n 	Pour les personnes 
 issues d'autres communes\, le prix est majoré de 10€.\n 	Tarifs dégres
 sifs en cas d’inscription à plusieurs activités par personne. Se rense
 igner au secrétariat.\n\n
ATTACH;FMTTYPE=image/jpeg:https://www.lamargelle.net/wordpress/wp-content/
 uploads/2023/12/gala-danse-Sylvie-Lalloue-2019a-e1717772014554.jpg
CATEGORIES:Activités Adultes/Seniors
LOCATION:La Margelle / Salle La Galerie\, 17 rue de l'Eau qui Court\, Staff
 elfelden\, 68850\, France
X-APPLE-STRUCTURED-LOCATION;VALUE=URI;X-ADDRESS=17 rue de l'Eau qui Court\,
  Staffelfelden\, 68850\, France;X-APPLE-RADIUS=100;X-TITLE=La Margelle / S
 alle La Galerie:geo:0,0
END:VEVENT
BEGIN:VTIMEZONE
TZID:Europe/Paris
X-LIC-LOCATION:Europe/Paris
BEGIN:DAYLIGHT
DTSTART:20260329T030000
TZOFFSETFROM:+0100
TZOFFSETTO:+0200
TZNAME:CEST
END:DAYLIGHT
END:VTIMEZONE
END:VCALENDAR